BEGIN:VCALENDAR
VERSION:2.0
PRODID:-//GGT Footing - ECPv6.15.20//NONSGML v1.0//EN
CALSCALE:GREGORIAN
METHOD:PUBLISH
X-ORIGINAL-URL:https://www.ggtfooting.com
X-WR-CALDESC:Events for GGT Footing
REFRESH-INTERVAL;VALUE=DURATION:PT1H
X-Robots-Tag:noindex
X-PUBLISHED-TTL:PT1H
BEGIN:VTIMEZONE
TZID:Asia/Karachi
BEGIN:STANDARD
TZOFFSETFROM:+0500
TZOFFSETTO:+0500
TZNAME:PKT
DTSTART:20240101T000000
END:STANDARD
END:VTIMEZONE
BEGIN:VEVENT
DTSTART;VALUE=DATE:20251222
DTEND;VALUE=DATE:20260103
DTSTAMP:20260423T141056
CREATED:20251218T133543Z
LAST-MODIFIED:20251218T133543Z
UID:1197-1766361600-1767398399@www.ggtfooting.com
SUMMARY:Office Closed
DESCRIPTION:Our office will be closed from December 22- January 2. \nWe wish everyone a happy holiday season!
URL:https://www.ggtfooting.com/event/office-closed/
LOCATION:KY
END:VEVENT
END:VCALENDAR