BEGIN:VCALENDAR
VERSION:2.0
PRODID:-//GGT Footing - ECPv6.15.20//NONSGML v1.0//EN
CALSCALE:GREGORIAN
METHOD:PUBLISH
X-ORIGINAL-URL:https://www.ggtfooting.com
X-WR-CALDESC:Events for GGT Footing
REFRESH-INTERVAL;VALUE=DURATION:PT1H
X-Robots-Tag:noindex
X-PUBLISHED-TTL:PT1H
BEGIN:VTIMEZONE
TZID:Asia/Karachi
BEGIN:STANDARD
TZOFFSETFROM:+0500
TZOFFSETTO:+0500
TZNAME:PKT
DTSTART:20250101T000000
END:STANDARD
END:VTIMEZONE
BEGIN:VEVENT
DTSTART;VALUE=DATE:20260213
DTEND;VALUE=DATE:20260216
DTSTAMP:20260425T190604
CREATED:20251218T134359Z
LAST-MODIFIED:20251218T134359Z
UID:1198-1770940800-1771199999@www.ggtfooting.com
SUMMARY:All for the Horses Expo
DESCRIPTION:Join us at All for the Horses Expo at World Equestrian Center in Ocala\, FL.
URL:https://www.ggtfooting.com/event/all-for-the-horses-expo/
LOCATION:World Equestrian Center- Ocala\, 1750 NW 80th Ave.\, Ocala\, FL\, 34482\, United States
END:VEVENT
END:VCALENDAR