BEGIN:VCALENDAR
VERSION:2.0
PRODID:-//GGT Footing - ECPv6.15.20//NONSGML v1.0//EN
CALSCALE:GREGORIAN
METHOD:PUBLISH
X-ORIGINAL-URL:https://www.ggtfooting.com
X-WR-CALDESC:Events for GGT Footing
REFRESH-INTERVAL;VALUE=DURATION:PT1H
X-Robots-Tag:noindex
X-PUBLISHED-TTL:PT1H
BEGIN:VTIMEZONE
TZID:Asia/Karachi
BEGIN:STANDARD
TZOFFSETFROM:+0500
TZOFFSETTO:+0500
TZNAME:PKT
DTSTART:20250101T000000
END:STANDARD
END:VTIMEZONE
BEGIN:VEVENT
DTSTART;TZID=Asia/Karachi:20260304T080000
DTEND;TZID=Asia/Karachi:20260308T160000
DTSTAMP:20260424T163932
CREATED:20260305T162522Z
LAST-MODIFIED:20260305T162928Z
UID:1381-1772611200-1772985600@www.ggtfooting.com
SUMMARY:WEF Week 9
DESCRIPTION:Cynthia Keating will be at WEF Week 9 in Wellington\, FL to present awards for the GGT Footing sponsored Hunter Division\, Amateur Owner 3’6” 36+ Sunday morning. Join us as we celebrate these talented riders during 4 days of exciting competition! \n  \n  \n 
URL:https://www.ggtfooting.com/event/wef-week-9/
LOCATION:Wellington International\, 3400 Equestrian Club Drive\, Wellington\, FL\, 33414\, United States
END:VEVENT
END:VCALENDAR